BEGIN:VCALENDAR
VERSION:2.0
METHOD:PUBLISH
PRODID:-//Accessible Web Design//My Calendar//http://www.joedolson.com//v//EN';
BEGIN:VEVENT
UID:12-10
LOCATION:Online
SUMMARY:Taller online: Impresión 3D y Emprendimiento
DTSTAMP:20240621T090000
ORGANIZER;CN=admin:MAILTO:admin@naturfab.eu
DTSTART:20240621T090000
DTEND:20240621T100000
CATEGORIES:General
URL;VALUE=URI:https://naturfab.eu/mc-events/taller-online-impresion-3d-y-emprendimiento/?mc_id=12
DESCRIPTION:Ver más
END:VEVENT
END:VCALENDAR